BEGIN:VCALENDAR
VERSION:2.0
PRODID:-//SPD Unna - ECPv6.15.20//NONSGML v1.0//EN
CALSCALE:GREGORIAN
METHOD:PUBLISH
X-WR-CALNAME:SPD Unna
X-ORIGINAL-URL:https://spd-unna.de
X-WR-CALDESC:Veranstaltungen für SPD Unna
REFRESH-INTERVAL;VALUE=DURATION:PT1H
X-Robots-Tag:noindex
X-PUBLISHED-TTL:PT1H
BEGIN:VTIMEZONE
TZID:UTC
BEGIN:STANDARD
TZOFFSETFROM:+0000
TZOFFSETTO:+0000
TZNAME:UTC
DTSTART:20240101T000000
END:STANDARD
END:VTIMEZONE
BEGIN:VEVENT
DTSTART;TZID=UTC:20260422T170000
DTEND;TZID=UTC:20260422T190000
DTSTAMP:20260423T025726
CREATED:20260309T095408Z
LAST-MODIFIED:20260309T095408Z
UID:7684-1776877200-1776884400@spd-unna.de
SUMMARY:Ratssitzung
DESCRIPTION:
URL:https://spd-unna.de/event/ratssitzung-17/
LOCATION:Ratssaal der Stadt Unna\, Rathausplatz 1\, Unna\, 59423\, Deutschland
END:VEVENT
BEGIN:VEVENT
DTSTART;TZID=UTC:20260415T180000
DTEND;TZID=UTC:20260415T210000
DTSTAMP:20260423T025726
CREATED:20260408T071900Z
LAST-MODIFIED:20260408T071900Z
UID:7780-1776276000-1776286800@spd-unna.de
SUMMARY:SPD-Mitgliederversammlung
DESCRIPTION:
URL:https://spd-unna.de/event/spd-mitgliederversammlung/
LOCATION:Lindenbrauerei Unna
END:VEVENT
BEGIN:VEVENT
DTSTART;TZID=UTC:20260319T180000
DTEND;TZID=UTC:20260319T200000
DTSTAMP:20260423T025726
CREATED:20260309T095208Z
LAST-MODIFIED:20260309T095208Z
UID:7682-1773943200-1773950400@spd-unna.de
SUMMARY:Ratssitzung
DESCRIPTION:
URL:https://spd-unna.de/event/ratssitzung-16/
LOCATION:Ratssaal der Stadt Unna\, Rathausplatz 1\, Unna\, 59423\, Deutschland
END:VEVENT
BEGIN:VEVENT
DTSTART;TZID=UTC:20260319T170000
DTEND;TZID=UTC:20260319T180000
DTSTAMP:20260423T025726
CREATED:20260309T095058Z
LAST-MODIFIED:20260309T095058Z
UID:7680-1773939600-1773943200@spd-unna.de
SUMMARY:Haupt-\, Finanz- und Liegenschaftsausschuss
DESCRIPTION:
URL:https://spd-unna.de/event/haupt-finanz-und-liegenschaftsausschuss-4/
LOCATION:Ratssaal der Stadt Unna\, Rathausplatz 1\, Unna\, 59423\, Deutschland
END:VEVENT
BEGIN:VEVENT
DTSTART;TZID=UTC:20260311T170000
DTEND;TZID=UTC:20260311T190000
DTSTAMP:20260423T025726
CREATED:20260121T103907Z
LAST-MODIFIED:20260121T103907Z
UID:7652-1773248400-1773255600@spd-unna.de
SUMMARY:Schulausschuss
DESCRIPTION:
URL:https://spd-unna.de/event/schulausschuss/
LOCATION:Ratssaal der Stadt Unna\, Rathausplatz 1\, Unna\, 59423\, Deutschland
END:VEVENT
BEGIN:VEVENT
DTSTART;TZID=UTC:20260310T170000
DTEND;TZID=UTC:20260310T190000
DTSTAMP:20260423T025726
CREATED:20260121T103747Z
LAST-MODIFIED:20260121T103747Z
UID:7650-1773162000-1773169200@spd-unna.de
SUMMARY:Jugendhilfeausschuss
DESCRIPTION:
URL:https://spd-unna.de/event/jugendhilfeausschuss-11/
LOCATION:Ratssaal der Stadt Unna\, Rathausplatz 1\, Unna\, 59423\, Deutschland
END:VEVENT
BEGIN:VEVENT
DTSTART;TZID=UTC:20260309T170000
DTEND;TZID=UTC:20260309T190000
DTSTAMP:20260423T025726
CREATED:20260121T103630Z
LAST-MODIFIED:20260121T103630Z
UID:7648-1773075600-1773082800@spd-unna.de
SUMMARY:Kulturausschuss
DESCRIPTION:
URL:https://spd-unna.de/event/kulturausschuss-9/
LOCATION:Ratssaal der Stadt Unna\, Rathausplatz 1\, Unna\, 59423\, Deutschland
END:VEVENT
BEGIN:VEVENT
DTSTART;TZID=UTC:20260304T170000
DTEND;TZID=UTC:20260304T190000
DTSTAMP:20260423T025726
CREATED:20260121T103530Z
LAST-MODIFIED:20260121T103530Z
UID:7646-1772643600-1772650800@spd-unna.de
SUMMARY:Sportausschuss
DESCRIPTION:
URL:https://spd-unna.de/event/sportausschuss/
LOCATION:Ratssaal der Stadt Unna\, Rathausplatz 1\, Unna\, 59423\, Deutschland
END:VEVENT
BEGIN:VEVENT
DTSTART;TZID=UTC:20260303T170000
DTEND;TZID=UTC:20260303T190000
DTSTAMP:20260423T025726
CREATED:20260121T103354Z
LAST-MODIFIED:20260121T103354Z
UID:7644-1772557200-1772564400@spd-unna.de
SUMMARY:Ausschuss für Soziales\, Senioren\, Wohnen und Demografie
DESCRIPTION:
URL:https://spd-unna.de/event/ausschuss-fuer-soziales-senioren-wohnen-und-demografie/
LOCATION:Ratssaal der Stadt Unna\, Rathausplatz 1\, Unna\, 59423\, Deutschland
END:VEVENT
BEGIN:VEVENT
DTSTART;TZID=UTC:20260226T160000
DTEND;TZID=UTC:20260226T180000
DTSTAMP:20260423T025726
CREATED:20260121T103211Z
LAST-MODIFIED:20260121T103211Z
UID:7642-1772121600-1772128800@spd-unna.de
SUMMARY:Haupt-\, Finanz- und Liegenschaftsausschuss
DESCRIPTION:
URL:https://spd-unna.de/event/haupt-finanz-und-liegenschaftsausschuss-3/
LOCATION:Ratssaal der Stadt Unna\, Rathausplatz 1\, Unna\, 59423\, Deutschland
END:VEVENT
BEGIN:VEVENT
DTSTART;TZID=UTC:20260223T170000
DTEND;TZID=UTC:20260223T190000
DTSTAMP:20260423T025726
CREATED:20260121T103046Z
LAST-MODIFIED:20260121T103046Z
UID:7640-1771866000-1771873200@spd-unna.de
SUMMARY:Ausschuss für Chancengerechtigkeit und Integration
DESCRIPTION:
URL:https://spd-unna.de/event/ausschuss-fuer-chancengerechtigkeit-und-integration/
LOCATION:Ratssaal der Stadt Unna\, Rathausplatz 1\, Unna\, 59423\, Deutschland
END:VEVENT
BEGIN:VEVENT
DTSTART;TZID=UTC:20260218T170000
DTEND;TZID=UTC:20260218T190000
DTSTAMP:20260423T025726
CREATED:20260121T102901Z
LAST-MODIFIED:20260121T102901Z
UID:7638-1771434000-1771441200@spd-unna.de
SUMMARY:Ausschuss für Stadtentwicklung\, Mobilität und Tiefbau
DESCRIPTION:
URL:https://spd-unna.de/event/ausschuss-fuer-stadtentwicklung-mobilitaet-und-tiefbau/
LOCATION:Ratssaal der Stadt Unna\, Rathausplatz 1\, Unna\, 59423\, Deutschland
END:VEVENT
BEGIN:VEVENT
DTSTART;TZID=UTC:20260217T170000
DTEND;TZID=UTC:20260217T190000
DTSTAMP:20260423T025726
CREATED:20260121T102736Z
LAST-MODIFIED:20260121T102736Z
UID:7636-1771347600-1771354800@spd-unna.de
SUMMARY:Ausschuss für Feuerschutz\, Sicherheit und Ordnung
DESCRIPTION:
URL:https://spd-unna.de/event/ausschuss-fuer-feuerschutz-sicherheit-und-ordnung-9/
LOCATION:Ratssaal der Stadt Unna\, Rathausplatz 1\, Unna\, 59423\, Deutschland
END:VEVENT
BEGIN:VEVENT
DTSTART;TZID=UTC:20260210T170000
DTEND;TZID=UTC:20260210T190000
DTSTAMP:20260423T025726
CREATED:20260121T102611Z
LAST-MODIFIED:20260121T102611Z
UID:7634-1770742800-1770750000@spd-unna.de
SUMMARY:Ausschuss für Klimaschutz\, Umwelt und Grünflächen
DESCRIPTION:
URL:https://spd-unna.de/event/ausschuss-fuer-klimaschutz-umwelt-und-gruenflaechen/
LOCATION:Ratssaal der Stadt Unna\, Rathausplatz 1\, Unna\, 59423\, Deutschland
END:VEVENT
BEGIN:VEVENT
DTSTART;TZID=UTC:20260205T170000
DTEND;TZID=UTC:20260205T190000
DTSTAMP:20260423T025726
CREATED:20260121T102439Z
LAST-MODIFIED:20260121T102439Z
UID:7632-1770310800-1770318000@spd-unna.de
SUMMARY:Ratssitzung
DESCRIPTION:
URL:https://spd-unna.de/event/ratssitzung-15/
LOCATION:Ratssaal der Stadt Unna\, Rathausplatz 1\, Unna\, 59423\, Deutschland
END:VEVENT
BEGIN:VEVENT
DTSTART;TZID=UTC:20260122T160000
DTEND;TZID=UTC:20260122T180000
DTSTAMP:20260423T025726
CREATED:20260121T102344Z
LAST-MODIFIED:20260121T102344Z
UID:7630-1769097600-1769104800@spd-unna.de
SUMMARY:Haupt-\, Finanz- und Liegenschaftsausschuss
DESCRIPTION:
URL:https://spd-unna.de/event/haupt-finanz-und-liegenschaftsausschuss-2/
LOCATION:Ratssaal der Stadt Unna\, Rathausplatz 1\, Unna\, 59423\, Deutschland
END:VEVENT
BEGIN:VEVENT
DTSTART;TZID=UTC:20251218T170000
DTEND;TZID=UTC:20251218T190000
DTSTAMP:20260423T025726
CREATED:20251125T142757Z
LAST-MODIFIED:20251125T142757Z
UID:7599-1766077200-1766084400@spd-unna.de
SUMMARY:Ratssitzung
DESCRIPTION:
URL:https://spd-unna.de/event/ratssitzung-14/
LOCATION:Ratssaal der Stadt Unna\, Rathausplatz 1\, Unna\, 59423\, Deutschland
END:VEVENT
BEGIN:VEVENT
DTSTART;TZID=UTC:20251216T170000
DTEND;TZID=UTC:20251216T190000
DTSTAMP:20260423T025726
CREATED:20251125T142656Z
LAST-MODIFIED:20251125T142656Z
UID:7597-1765904400-1765911600@spd-unna.de
SUMMARY:Jugendhilfeausschuss
DESCRIPTION:
URL:https://spd-unna.de/event/jugendhilfeausschuss-10/
LOCATION:Ratssaal der Stadt Unna\, Rathausplatz 1\, Unna\, 59423\, Deutschland
END:VEVENT
BEGIN:VEVENT
DTSTART;TZID=UTC:20251211T170000
DTEND;TZID=UTC:20251211T190000
DTSTAMP:20260423T025726
CREATED:20251117T093524Z
LAST-MODIFIED:20251125T142947Z
UID:7587-1765472400-1765479600@spd-unna.de
SUMMARY:Haupt- und Finanzausschuss
DESCRIPTION:
URL:https://spd-unna.de/event/haupt-und-finanzausschuss-6/
LOCATION:Ratssaal der Stadt Unna\, Rathausplatz 1\, Unna\, 59423\, Deutschland
END:VEVENT
BEGIN:VEVENT
DTSTART;TZID=UTC:20251127T180000
DTEND;TZID=UTC:20251127T200000
DTSTAMP:20260423T025726
CREATED:20251117T093631Z
LAST-MODIFIED:20251117T093631Z
UID:7589-1764266400-1764273600@spd-unna.de
SUMMARY:Ratssitzung
DESCRIPTION:
URL:https://spd-unna.de/event/ratssitzung-13/
LOCATION:Ratssaal der Stadt Unna\, Rathausplatz 1\, Unna\, 59423\, Deutschland
END:VEVENT
BEGIN:VEVENT
DTSTART;TZID=UTC:20251120T180000
DTEND;TZID=UTC:20251120T210000
DTSTAMP:20260423T025726
CREATED:20251029T100927Z
LAST-MODIFIED:20251029T100927Z
UID:7539-1763661600-1763672400@spd-unna.de
SUMMARY:Konstituierende Sitzung des Rates der Kreisstadt Unna
DESCRIPTION:
URL:https://spd-unna.de/event/konstituierende-sitzung-des-rates-der-kreisstadt-unna/
LOCATION:Stadthalle
END:VEVENT
BEGIN:VEVENT
DTSTART;TZID=UTC:20251111T170000
DTEND;TZID=UTC:20251111T190000
DTSTAMP:20260423T025726
CREATED:20251125T142541Z
LAST-MODIFIED:20251125T142541Z
UID:7595-1762880400-1762887600@spd-unna.de
SUMMARY:Haupt-\, Finanz- und Liegenschaftsausschuss
DESCRIPTION:
URL:https://spd-unna.de/event/haupt-finanz-und-liegenschaftsausschuss/
LOCATION:Ratssaal der Stadt Unna\, Rathausplatz 1\, Unna\, 59423\, Deutschland
END:VEVENT
BEGIN:VEVENT
DTSTART;TZID=UTC:20251030T170000
DTEND;TZID=UTC:20251030T190000
DTSTAMP:20260423T025726
CREATED:20250924T070450Z
LAST-MODIFIED:20250924T070450Z
UID:7496-1761843600-1761850800@spd-unna.de
SUMMARY:Ratssitzung
DESCRIPTION:
URL:https://spd-unna.de/event/ratssitzung-12/
LOCATION:Ratssaal der Stadt Unna\, Rathausplatz 1\, Unna\, 59423\, Deutschland
END:VEVENT
BEGIN:VEVENT
DTSTART;TZID=UTC:20251027T170000
DTEND;TZID=UTC:20251027T190000
DTSTAMP:20260423T025726
CREATED:20250924T070334Z
LAST-MODIFIED:20250924T070334Z
UID:7494-1761584400-1761591600@spd-unna.de
SUMMARY:Beirat für die Teilhabe von Menschen mit Behinderungen
DESCRIPTION:
URL:https://spd-unna.de/event/beirat-fuer-die-teilhabe-von-menschen-mit-behinderungen/
LOCATION:Ratssaal der Stadt Unna\, Rathausplatz 1\, Unna\, 59423\, Deutschland
END:VEVENT
BEGIN:VEVENT
DTSTART;TZID=UTC:20251009T170000
DTEND;TZID=UTC:20251009T190000
DTSTAMP:20260423T025726
CREATED:20250924T070139Z
LAST-MODIFIED:20250924T070139Z
UID:7492-1760029200-1760036400@spd-unna.de
SUMMARY:Haupt- und Finanzausschuss
DESCRIPTION:
URL:https://spd-unna.de/event/haupt-und-finanzausschuss-5/
LOCATION:Ratssaal der Stadt Unna\, Rathausplatz 1\, Unna\, 59423\, Deutschland
END:VEVENT
BEGIN:VEVENT
DTSTART;TZID=UTC:20251008T170000
DTEND;TZID=UTC:20251008T190000
DTSTAMP:20260423T025726
CREATED:20250924T070032Z
LAST-MODIFIED:20250924T070032Z
UID:7490-1759942800-1759950000@spd-unna.de
SUMMARY:Ausschuss für Stadtentwicklung und Mobilität
DESCRIPTION:
URL:https://spd-unna.de/event/ausschuss-fuer-stadtentwicklung-und-mobilitaet-8/
LOCATION:Ratssaal der Stadt Unna\, Rathausplatz 1\, Unna\, 59423\, Deutschland
END:VEVENT
BEGIN:VEVENT
DTSTART;TZID=UTC:20250930T170000
DTEND;TZID=UTC:20250930T190000
DTSTAMP:20260423T025726
CREATED:20250901T082749Z
LAST-MODIFIED:20250901T082749Z
UID:7460-1759251600-1759258800@spd-unna.de
SUMMARY:Ausschuss für Feuerschutz\, Sicherheit und Ordnung
DESCRIPTION:
URL:https://spd-unna.de/event/ausschuss-fuer-feuerschutz-sicherheit-und-ordnung-8/
LOCATION:Ratssaal der Stadt Unna\, Rathausplatz 1\, Unna\, 59423\, Deutschland
END:VEVENT
BEGIN:VEVENT
DTSTART;TZID=UTC:20250923T170000
DTEND;TZID=UTC:20250923T190000
DTSTAMP:20260423T025726
CREATED:20250901T082637Z
LAST-MODIFIED:20250901T082637Z
UID:7458-1758646800-1758654000@spd-unna.de
SUMMARY:Jugendhilfeausschuss
DESCRIPTION:
URL:https://spd-unna.de/event/jugendhilfeausschuss-9/
LOCATION:Ratssaal der Stadt Unna\, Rathausplatz 1\, Unna\, 59423\, Deutschland
END:VEVENT
BEGIN:VEVENT
DTSTART;TZID=UTC:20250917T170000
DTEND;TZID=UTC:20250917T190000
DTSTAMP:20260423T025726
CREATED:20250901T082524Z
LAST-MODIFIED:20250901T082524Z
UID:7456-1758128400-1758135600@spd-unna.de
SUMMARY:Ausschuss für Schulen und Sport
DESCRIPTION:
URL:https://spd-unna.de/event/ausschuss-fuer-schulen-und-sport-3/
LOCATION:Ratssaal der Stadt Unna\, Rathausplatz 1\, Unna\, 59423\, Deutschland
END:VEVENT
BEGIN:VEVENT
DTSTART;TZID=UTC:20250916T160000
DTEND;TZID=UTC:20250916T180000
DTSTAMP:20260423T025726
CREATED:20250901T082225Z
LAST-MODIFIED:20250901T082225Z
UID:7453-1758038400-1758045600@spd-unna.de
SUMMARY:Ausschuss für Soziales\, Wohnen und Demografie
DESCRIPTION:
URL:https://spd-unna.de/event/ausschuss-fuer-soziales-wohnen-und-demografie-7/
LOCATION:Cafeteria Seniorentreff „Fässchen“
END:VEVENT
END:VCALENDAR